BEGIN:VCALENDAR
VERSION:2.0
PRODID:-//Mpact - ECPv6.0.2//NONSGML v1.0//EN
CALSCALE:GREGORIAN
METHOD:PUBLISH
X-WR-CALNAME:Mpact
X-ORIGINAL-URL:https://www.mpactmobility.org
X-WR-CALDESC:Events for Mpact
REFRESH-INTERVAL;VALUE=DURATION:PT1H
X-Robots-Tag:noindex
X-PUBLISHED-TTL:PT1H
BEGIN:VTIMEZONE
TZID:America/Denver
BEGIN:DAYLIGHT
TZOFFSETFROM:-0700
TZOFFSETTO:-0600
TZNAME:MDT
DTSTART:20230312T090000
END:DAYLIGHT
BEGIN:STANDARD
TZOFFSETFROM:-0600
TZOFFSETTO:-0700
TZNAME:MST
DTSTART:20231105T080000
END:STANDARD
END:VTIMEZONE
BEGIN:VEVENT
DTSTART;VALUE=DATE:20231105
DTEND;VALUE=DATE:20231109
DTSTAMP:20230415T211540
CREATED:20230213T211134Z
LAST-MODIFIED:20230213T211321Z
UID:5116-1699142400-1699487999@www.mpactmobility.org
SUMMARY:Mpact Transit + Community 2023
DESCRIPTION:M
URL:https://www.mpactmobility.org/event/mpact-transit-community-2023/
LOCATION:Sheraton Phoenix Downtown\, 340 N 3rd St\, Phoenix\, AZ\, 85004\, United States
ATTACH;FMTTYPE=image/png:https://www.mpactmobility.org/wp-content/uploads/2023/02/Conference-graphic2563x1000.png
END:VEVENT
END:VCALENDAR